BEGIN:VCALENDAR
VERSION:2.0
PRODID:-//Connect Williamsport//Calendar v1.0//EN
BEGIN:VEVENT
UID:d9e9b23a88a240af27d7764555d122a31eafebf8
DTSTAMP:20260526
DTSTART:20260526T090000
DTEND:20260526T130000
SUMMARY:Corcoran Advising Visit 
END:VEVENT
END:VCALENDAR