BEGIN:VCALENDAR
VERSION:2.0
PRODID:-//Connect Williamsport//Calendar v1.0//EN
BEGIN:VEVENT
UID:160c473b77e6a8c30dcd897ac9aeaea089f00ef1
DTSTAMP:20260602
DTSTART:20260602T090000
DTEND:20260602T130000
SUMMARY:Corcoran Advising Visit 
END:VEVENT
END:VCALENDAR