BEGIN:VCALENDAR
VERSION:2.0
PRODID:-//Connect Williamsport//Calendar v1.0//EN
BEGIN:VEVENT
UID:e143e9b86055b09616224e94a30aa6dee88d98c4
DTSTAMP:20260603
DTSTART:20260603T090000
DTEND:20260603T130000
SUMMARY:Nottingham Advising Visit 
END:VEVENT
END:VCALENDAR