BEGIN:VCALENDAR
VERSION:2.0
PRODID:-//Connect Williamsport//Calendar v1.0//EN
BEGIN:VEVENT
UID:51d60ddf506ee0d7a17bfa9c64676952bf05f43b
DTSTAMP:20260506
DTSTART:20260506T090000
DTEND:20260506T130000
SUMMARY:ITC Advising Visit 
END:VEVENT
END:VCALENDAR