BEGIN:VCALENDAR
VERSION:2.0
PRODID:-//Connect Williamsport//Calendar v1.0//EN
BEGIN:VEVENT
UID:15cdf3c78d4598af8ef978ab1269ddb401d5bba8
DTSTAMP:20260603
DTSTART:20260603T090000
DTEND:20260603T130000
SUMMARY:ITC Advising Visit 
END:VEVENT
END:VCALENDAR