BEGIN:VCALENDAR
VERSION:2.0
PRODID:-//Connect Williamsport//Calendar v1.0//EN
BEGIN:VEVENT
UID:6c7ac75c6b27a85de02f350ed3ad6098f5255704
DTSTAMP:20260601
DTSTART:20260601T090000
DTEND:20260601T140000
SUMMARY:Proctor Advising Visit 
END:VEVENT
END:VCALENDAR