BEGIN:VCALENDAR
VERSION:2.0
PRODID:-//Connect Williamsport//Calendar v1.0//EN
BEGIN:VEVENT
UID:dd4a8693519dca1f69b0b65d81e8d3ce752c868a
DTSTAMP:20260608
DTSTART:20260608T090000
DTEND:20260608T140000
SUMMARY:Proctor Advising Visit 
END:VEVENT
END:VCALENDAR