BEGIN:VCALENDAR
VERSION:2.0
PRODID:-//Connect Williamsport//Calendar v1.0//EN
BEGIN:VEVENT
UID:95e415748f03522db84d9dbf791a5bbd3edc03c8
DTSTAMP:20260602
DTSTART:20260602T090000
DTEND:20260602T140000
SUMMARY:Proctor Advising Visit 
END:VEVENT
END:VCALENDAR