BEGIN:VCALENDAR
VERSION:2.0
PRODID:-//Connect Williamsport//Calendar v1.0//EN
BEGIN:VEVENT
UID:49de19efdae19bfb948385b702712948755daa98
DTSTAMP:20260429
DTSTART:20260429T090000
DTEND:20260429T140000
SUMMARY:Proctor Advising Visit 
END:VEVENT
END:VCALENDAR