BEGIN:VCALENDAR
VERSION:2.0
PRODID:-//Connect Williamsport//Calendar v1.0//EN
BEGIN:VEVENT
UID:3bf2a335e4b3531aedd62b1db7e1e178c077be06
DTSTAMP:20260416
DTSTART:20260416T090000
DTEND:20260416T140000
SUMMARY:Proctor Advising Visit 
END:VEVENT
END:VCALENDAR