BEGIN:VCALENDAR
VERSION:2.0
PRODID:-//Connect Williamsport//Calendar v1.0//EN
BEGIN:VEVENT
UID:4a006ff44e474074615734c381d5ea83c582499c
DTSTAMP:20260521
DTSTART:20260521T090000
DTEND:20260521T140000
SUMMARY:Proctor Advising Visit 
END:VEVENT
END:VCALENDAR