BEGIN:VCALENDAR
VERSION:2.0
PRODID:-//Connect Williamsport//Calendar v1.0//EN
BEGIN:VEVENT
UID:21233ed87685f6c0402a7d2fd0f6d6ac9392f302
DTSTAMP:20260604
DTSTART:20260604T090000
DTEND:20260604T140000
SUMMARY:Proctor Advising Visit 
END:VEVENT
END:VCALENDAR