BEGIN:VCALENDAR
VERSION:2.0
PRODID:-//Connect Williamsport//Calendar v1.0//EN
BEGIN:VEVENT
UID:bd9d2f421fa772fa968df72336c51aa853044ee6
DTSTAMP:20260416
DTSTART:20260416T074500
DTEND:20260416T074500
SUMMARY:Utica Office College Tour of SUNY Potsdam
END:VEVENT
END:VCALENDAR