BEGIN:VCALENDAR
VERSION:2.0
PRODID:-//Connect Williamsport//Calendar v1.0//EN
BEGIN:VEVENT
UID:ac81dfa549ed6f80203ef91a9df7966e73af4408
DTSTAMP:20200909
DTSTART:20200909T150000
DTEND:20200909T160000
SUMMARY:Grid for Good Webinar Series
END:VEVENT
END:VCALENDAR