BEGIN:VCALENDAR
VERSION:2.0
PRODID:-//Connect Williamsport//Calendar v1.0//EN
BEGIN:VEVENT
UID:62782b1f69b69b354520ded2f01e1ce90464a26b
DTSTAMP:20230711
DTSTART:20230711T150000
DTEND:20230711T170000
SUMMARY:Grid for Good Webinar Series
END:VEVENT
END:VCALENDAR