BEGIN:VCALENDAR
VERSION:2.0
PRODID:-//Connect Williamsport//Calendar v1.0//EN
BEGIN:VEVENT
UID:b94c9c502c02267bcb1f6f4e50a59c5b81de92c0
DTSTAMP:20231018
DTSTART:20231018T160000
DTEND:20231018T170000
SUMMARY:Grid for Good Webinar Series
END:VEVENT
END:VCALENDAR