BEGIN:VCALENDAR
VERSION:2.0
PRODID:-//Connect Williamsport//Calendar v1.0//EN
BEGIN:VEVENT
UID:7ac7c240b8fd96904bab06e53b219c7d44a48476
DTSTAMP:20240418
DTSTART:20240418T084500
DTEND:20240418T084500
SUMMARY:Syracuse Office Tour of SUNY Geneseo
END:VEVENT
END:VCALENDAR